BEGIN:VCALENDAR
VERSION:2.0
PRODID:-//AZCook
CALSCALE:GREGORIAN
METHOD:PUBLISH
X-WR-CALNAME:AZCook
X-ORIGINAL-URL:https://azcook.pt/produto/sushi-experience-2506/
X-WR-CALDESC:SUSHI | Experience
BEGIN:VEVENT
DTSTART;TZID=Europe/London:20250622T110000
DTEND;TZID=Europe/London:20250622T150000
SUMMARY:SUSHI | Experience
DESCRIPTION:Duração: 4H
URL:https://azcook.pt/produto/sushi-experience-2506/
LOCATION:AZCOOK - Azeitão
END:VEVENT
END:VCALENDAR
