BEGIN:VCALENDAR
VERSION:2.0
PRODID:-//AZCook
CALSCALE:GREGORIAN
METHOD:PUBLISH
X-WR-CALNAME:AZCook
X-ORIGINAL-URL:https://azcook.pt/produto/pastelaria-festas-em-casa-2506/
X-WR-CALDESC:Pastelaria para Festas em Casa
BEGIN:VEVENT
DTSTART;TZID=Europe/London:20250629T100000
DTEND;TZID=Europe/London:20250629T140000
SUMMARY:Pastelaria para Festas em Casa
DESCRIPTION:Duração: 4H
URL:https://azcook.pt/produto/pastelaria-festas-em-casa-2506/
LOCATION:AZCOOK - Azeitão
END:VEVENT
END:VCALENDAR
