BEGIN:VCALENDAR
VERSION:2.0
PRODID:-//AZCook
CALSCALE:GREGORIAN
METHOD:PUBLISH
X-WR-CALNAME:AZCook
X-ORIGINAL-URL:https://azcook.pt/produto/massa-fresca-recheada-2509a/
X-WR-CALDESC:Massa Fresca | Recheada
BEGIN:VEVENT
DTSTART;TZID=Europe/London:20250928T110000
DTEND;TZID=Europe/London:20250928T150000
SUMMARY:Massa Fresca | Recheada
DESCRIPTION:Duração: 4H
URL:https://azcook.pt/produto/massa-fresca-recheada-2509a/
LOCATION:AZCOOK - Azeitão
END:VEVENT
END:VCALENDAR
