BEGIN:VCALENDAR
VERSION:2.0
PRODID:-//AZCook
CALSCALE:GREGORIAN
METHOD:PUBLISH
X-WR-CALNAME:AZCook
X-ORIGINAL-URL:https://azcook.pt/produto/curso-bases-de-cozinha-2601/
X-WR-CALDESC:Curso Bases de Cozinha
BEGIN:VEVENT
DTSTART;TZID=Europe/London:20260105T190000
DTEND;TZID=Europe/London:20260105T223000
SUMMARY:Curso Bases de Cozinha
DESCRIPTION:Duração: 14H (3H30/dia: 5, 12, 19 e 26/jan)
URL:https://azcook.pt/produto/curso-bases-de-cozinha-2601/
LOCATION:AZCOOK - Azeitão
END:VEVENT
END:VCALENDAR
