BEGIN:VCALENDAR
VERSION:2.0
PRODID:-//AZCook
CALSCALE:GREGORIAN
METHOD:PUBLISH
X-WR-CALNAME:AZCook
X-ORIGINAL-URL:https://azcook.pt/produto/cozinha-tradicional-transmontana-2601/
X-WR-CALDESC:Cozinha Tradicional Transmontana
BEGIN:VEVENT
DTSTART;TZID=Europe/London:20260121T190000
DTEND;TZID=Europe/London:20260121T223000
SUMMARY:Cozinha Tradicional Transmontana
DESCRIPTION:Duração: 3H30 (sessão independente)
URL:https://azcook.pt/produto/cozinha-tradicional-transmontana-2601/
LOCATION:AZCOOK - Azeitão
END:VEVENT
END:VCALENDAR
