BEGIN:VCALENDAR
VERSION:2.0
PRODID:-//AZCook
CALSCALE:GREGORIAN
METHOD:PUBLISH
X-WR-CALNAME:AZCook
X-ORIGINAL-URL:https://azcook.pt/produto/dumplings-pelo-mundo-2602/
X-WR-CALDESC:DUMPLINGS pelo mundo
BEGIN:VEVENT
DTSTART;TZID=Europe/London:20260225T190000
DTEND;TZID=Europe/London:20260225T223000
SUMMARY:DUMPLINGS pelo mundo
DESCRIPTION:Duração: 3H30
URL:https://azcook.pt/produto/dumplings-pelo-mundo-2602/
LOCATION:AZCOOK - Azeitão
END:VEVENT
END:VCALENDAR
