BEGIN:VCALENDAR
VERSION:2.0
PRODID:-//AZCook
CALSCALE:GREGORIAN
METHOD:PUBLISH
X-WR-CALNAME:AZCook
X-ORIGINAL-URL:https://azcook.pt/produto/curso-bases-de-cozinha-2602/
X-WR-CALDESC:Curso Bases de Cozinha
BEGIN:VEVENT
DTSTART;TZID=Europe/London:20260222T190000
DTEND;TZID=Europe/London:20260222T220000
SUMMARY:Curso Bases de Cozinha
DESCRIPTION:Duração: 12H (3H/dia: 22/fev, 1, 8 e 15/mar)
URL:https://azcook.pt/produto/curso-bases-de-cozinha-2602/
LOCATION:AZCOOK - Azeitão
END:VEVENT
END:VCALENDAR
