BEGIN:VCALENDAR
VERSION:2.0
PRODID:-//AZCook
CALSCALE:GREGORIAN
METHOD:PUBLISH
X-WR-CALNAME:AZCook
X-ORIGINAL-URL:https://azcook.pt/produto/especial-familia-lanches-snacks-naturais-2604/
X-WR-CALDESC:Especial Família: Lanches &#038; Snacks Naturais para Mini-Chefs
BEGIN:VEVENT
DTSTART;TZID=Europe/London:20260419T103000
DTEND;TZID=Europe/London:20260419T133000
SUMMARY:Especial Família: Lanches & Snacks Naturais para Mini-Chefs
DESCRIPTION:Duração: 3H
URL:https://azcook.pt/produto/especial-familia-lanches-snacks-naturais-2604/
LOCATION:AZCOOK - Azeitão
END:VEVENT
END:VCALENDAR
