BEGIN:VCALENDAR
VERSION:2.0
PRODID:-//AZCook
CALSCALE:GREGORIAN
METHOD:PUBLISH
X-WR-CALNAME:AZCook
X-ORIGINAL-URL:https://azcook.pt/produto/portuguese-cuisine-260421/
X-WR-CALDESC:Portuguese cuisine
BEGIN:VEVENT
DTSTART;TZID=Europe/London:20260421T110000
DTEND;TZID=Europe/London:20260421T140000
SUMMARY:Portuguese cuisine
DESCRIPTION:Duration: 3H
URL:https://azcook.pt/produto/portuguese-cuisine-260421/
LOCATION:AZCOOK - Azeitão
END:VEVENT
END:VCALENDAR
