BEGIN:VCALENDAR
VERSION:2.0
PRODID:-//AZCook
CALSCALE:GREGORIAN
METHOD:PUBLISH
X-WR-CALNAME:AZCook
X-ORIGINAL-URL:https://azcook.pt/produto/alimentacao-na-menopausa-260926/
X-WR-CALDESC:Alimentação na Menopausa
BEGIN:VEVENT
DTSTART;TZID=Europe/London:20260926T110000
DTEND;TZID=Europe/London:20260926T140000
SUMMARY:Alimentação na Menopausa
DESCRIPTION:Duração: 3H
URL:https://azcook.pt/produto/alimentacao-na-menopausa-260926/
LOCATION:AZCOOK - Azeitão
END:VEVENT
END:VCALENDAR
