BEGIN:VCALENDAR
VERSION:2.0
PRODID:-//AZCook
CALSCALE:GREGORIAN
METHOD:PUBLISH
X-WR-CALNAME:AZCook
X-ORIGINAL-URL:https://azcook.pt/produto/cozinha-basica-junior-atl-30h-260629/
X-WR-CALDESC:Cozinha Básica Junior (ATL/30H)
BEGIN:VEVENT
DTSTART;TZID=Europe/London:20260629T100000
DTEND;TZID=Europe/London:20260629T160000
SUMMARY:Cozinha Básica Junior (ATL/30H)
DESCRIPTION:Duração: 30H (6H/dia, de 29 junho a 3 julho)
URL:https://azcook.pt/produto/cozinha-basica-junior-atl-30h-260629/
LOCATION:AZCOOK - Azeitão
END:VEVENT
END:VCALENDAR
