BEGIN:VCALENDAR
VERSION:2.0
PRODID:-//AZCook
CALSCALE:GREGORIAN
METHOD:PUBLISH
X-WR-CALNAME:AZCook
X-ORIGINAL-URL:https://azcook.pt/produto/gelados-e-sorvetes-tecnicas-essenciais-260725/
X-WR-CALDESC:Gelados e Sorvetes | Técnicas Essenciais
BEGIN:VEVENT
DTSTART;TZID=Europe/London:20260725T100000
DTEND;TZID=Europe/London:20260725T130000
SUMMARY:Gelados e Sorvetes | Técnicas Essenciais
DESCRIPTION:Duração: 3H
URL:https://azcook.pt/produto/gelados-e-sorvetes-tecnicas-essenciais-260725/
LOCATION:AZCOOK - Azeitão
END:VEVENT
END:VCALENDAR
