BEGIN:VCALENDAR
VERSION:2.0
PRODID:-//AZCook
CALSCALE:GREGORIAN
METHOD:PUBLISH
X-WR-CALNAME:AZCook
X-ORIGINAL-URL:https://azcook.pt/produto/chocolate-bean-to-bar-bombons-artesanais-261107/
X-WR-CALDESC:CHOCOLATE | Bean to Bar &#038; Bombons Artesanais
BEGIN:VEVENT
DTSTART;TZID=Europe/London:20261107T100000
DTEND;TZID=Europe/London:20261107T130000
SUMMARY:CHOCOLATE | Bean to Bar & Bombons Artesanais
DESCRIPTION:Duração: 3H
URL:https://azcook.pt/produto/chocolate-bean-to-bar-bombons-artesanais-261107/
LOCATION:AZCOOK - Azeitão
END:VEVENT
END:VCALENDAR
