BEGIN:VCALENDAR
VERSION:2.0
PRODID:-//AZCook
CALSCALE:GREGORIAN
METHOD:PUBLISH
X-WR-CALNAME:AZCook
X-ORIGINAL-URL:https://azcook.pt/produto/cozinhar-com-arroz-260603/
X-WR-CALDESC:Cozinhar com: ARROZ
BEGIN:VEVENT
DTSTART;TZID=Europe/London:20260603T190000
DTEND;TZID=Europe/London:20260603T220000
SUMMARY:Cozinhar com: ARROZ
DESCRIPTION:Duração: 3H
URL:https://azcook.pt/produto/cozinhar-com-arroz-260603/
LOCATION:AZCOOK - Azeitão
END:VEVENT
END:VCALENDAR
